BEGIN:VCALENDAR
VERSION:2.0
PRODID:-//NZ Tech Events//techevents.co.nz//EN
CALSCALE:GREGORIAN
METHOD:PUBLISH
BEGIN:VTIMEZONE
TZID:Pacific/Auckland
END:VTIMEZONE
BEGIN:VEVENT
UID:event-90@techevents.co.nz
DTSTAMP:20260423T153057Z
DTSTART;TZID=Pacific/Auckland:20260522T090000
DTEND;TZID=Pacific/Auckland:20260522T100000
SUMMARY:Advanced Excel That Saves Hours Presented by Excel in BI NZ
DESCRIPTION:Come and join to learn with Ramon\, presented by Excel in BI. In these live sessions\, we explore practical topics across Data\, AI\, and Automation\, always focused on real business application. If you are a curious professional who wants to better understand how data can improve your work\, your decisions\, and your career\, these sessions are for you. Excel remains one of the most powerful tools in business. In this session\, you will learn advanced but practical functions that reduce manual work and improve efficiency. Each session is practical\, focused\, and designed to deliver real clarity in just one hour. Join us live and take the next step in strengthening your skills in Data\, AI\, and Automation with Excel in BI.
LOCATION:Online\, Online
URL:https://events.teams.microsoft.com/event/dd2c8a30-840e-4813-b56d-5df0251aa13d@d4003d39-e709-4fc5-90bf-d1fc9e75702e/registration
END:VEVENT
END:VCALENDAR