BEGIN:VCALENDAR
VERSION:2.0
PRODID:-//NZ Tech Events//techevents.co.nz//EN
CALSCALE:GREGORIAN
METHOD:PUBLISH
BEGIN:VTIMEZONE
TZID:Pacific/Auckland
END:VTIMEZONE
BEGIN:VEVENT
UID:event-89@techevents.co.nz
DTSTAMP:20260423T152819Z
DTSTART;TZID=Pacific/Auckland:20260508T090000
DTEND;TZID=Pacific/Auckland:20260508T100000
SUMMARY:Fix Confusing Dashboards Presented by Excel in BI NZ
DESCRIPTION:Come and join to learn with Ramon\, presented by Excel in BI. In these live sessions\, we explore practical topics across Data\, AI\, and Automation\, always focused on real business application. If you are a curious professional who wants to better understand how data can improve your work\, your decisions\, and your career\, these sessions are for you. More data does not mean more clarity. In this session\, we explore why dashboards overwhelm executives and how to design reports that answer real business questions. Each session is practical\, focused\, and designed to deliver real clarity in just one hour. Join us live and take the next step in strengthening your skills in Data\, AI\, and Automation with Excel in BI.
LOCATION:Online\, Online
URL:https://events.teams.microsoft.com/event/a2891dcc-5776-4e23-9c26-7c47ab0c5258@d4003d39-e709-4fc5-90bf-d1fc9e75702e/registration
END:VEVENT
END:VCALENDAR