BEGIN:VCALENDAR
VERSION:2.0
PRODID:-//NZ Tech Events//techevents.co.nz//EN
CALSCALE:GREGORIAN
METHOD:PUBLISH
BEGIN:VTIMEZONE
TZID:Pacific/Auckland
END:VTIMEZONE
BEGIN:VEVENT
UID:event-88@techevents.co.nz
DTSTAMP:20260423T152819Z
DTSTART;TZID=Pacific/Auckland:20260424T090000
DTEND;TZID=Pacific/Auckland:20260424T100000
SUMMARY:SQL That Gets You Hired Presented by Excel in BI NZ
DESCRIPTION:Come and join to learn with Ramon\, presented by Excel in BI. In these live sessions\, we explore practical topics across Data\, AI\, and Automation\, always focused on real business application. \n\nIf you are a curious professional who wants to better understand how data can improve your work\, your decisions\, and your career\, these sessions are for you. SQL remains one of the most requested skills in data roles. In this session\, you will learn the core SQL concepts employers care about and how SQL improves performance and scalability in reporting. Each session is practical\, focused\, and designed to deliver real clarity in just one hour. \n\nJoin us live and take the next step in strengthening your skills in Data\, AI\, and Automation with Excel in BI.
LOCATION:Online\, Online
URL:https://events.teams.microsoft.com/event/b4b684c1-7cae-4fd9-ab25-e0e349214d91@d4003d39-e709-4fc5-90bf-d1fc9e75702e/registration
END:VEVENT
END:VCALENDAR