BEGIN:VCALENDAR
VERSION:2.0
PRODID:-//NZ Tech Events//techevents.co.nz//EN
CALSCALE:GREGORIAN
METHOD:PUBLISH
BEGIN:VTIMEZONE
TZID:Pacific/Auckland
END:VTIMEZONE
BEGIN:VEVENT
UID:event-87@techevents.co.nz
DTSTAMP:20260423T181348Z
DTSTART;TZID=Pacific/Auckland:20260410T090000
DTEND;TZID=Pacific/Auckland:20260410T100000
SUMMARY:Stop Manual Data Cleaning in Power BI Presented by Excel in BI NZ
DESCRIPTION:Come and join to learn with Ramon\, presented by Excel in BI. In these live sessions\, we explore practical topics across Data\, AI\, and Automation\, always focused on real business application. If you are a curious professional who wants to better understand how data can improve your work\, your decisions\, and your career\, these sessions are for you. Cleaning data inside visuals creates confusion and slow reports. In this session\, you will learn how to properly use Power Query for transformations to build cleaner and faster dashboards. Each session is practical\, focused\, and designed to deliver real clarity in just one hour. Join us live and take the next step in strengthening your skills in Data\, AI\, and Automation with Excel in BI.
LOCATION:Online\, Online
URL:https://events.teams.microsoft.com/event/97ad33f3-c68a-43b7-b80d-9b21139e2157@d4003d39-e709-4fc5-90bf-d1fc9e75702e/registration
END:VEVENT
END:VCALENDAR