BEGIN:VCALENDAR
VERSION:2.0
PRODID:-//NZ Tech Events//techevents.co.nz//EN
CALSCALE:GREGORIAN
METHOD:PUBLISH
BEGIN:VTIMEZONE
TZID:Pacific/Auckland
END:VTIMEZONE
BEGIN:VEVENT
UID:event-86@techevents.co.nz
DTSTAMP:20260423T181348Z
DTSTART;TZID=Pacific/Auckland:20260327T090000
DTEND;TZID=Pacific/Auckland:20260327T100000
SUMMARY:Automate 10 Hours a Week with Python Presented by Excel in BI NZ
DESCRIPTION:Come and join to learn with Ramon\, presented by Excel in BI. In these live sessions\, we explore practical topics across Data\, AI\, and Automation\, always focused on real business application. If you are a curious professional who wants to better understand how data can improve your work\, your decisions\, and your career\, these sessions are for you.Manual data tasks waste time every week. In this session\, you will see how Python can automate repetitive work such as cleaning files\, combining data\, and preparing reports. No heavy programming knowledge required.  Just practical examples you can apply immediately. Each session is practical\, focused\, and designed to deliver real clarity in just one hour. Join us live and take the next step in strengthening your skills in Data\, AI\, and Automation with Excel in BI.
LOCATION:Online\, Online
URL:https://events.teams.microsoft.com/event/1d6e47df-4a63-42fd-a68b-4964f78aa65b@d4003d39-e709-4fc5-90bf-d1fc9e75702e/registration
END:VEVENT
END:VCALENDAR