BEGIN:VCALENDAR
VERSION:2.0
PRODID:-//NZ Tech Events//techevents.co.nz//EN
CALSCALE:GREGORIAN
METHOD:PUBLISH
BEGIN:VTIMEZONE
TZID:Pacific/Auckland
END:VTIMEZONE
BEGIN:VEVENT
UID:event-85@techevents.co.nz
DTSTAMP:20260423T180948Z
DTSTART;TZID=Pacific/Auckland:20260313T090000
DTEND;TZID=Pacific/Auckland:20260313T100000
SUMMARY:Build Profitable Data Pipelines Presented by Excel in BI NZ
DESCRIPTION:Come and join to learn with Ramon\, presented by Excel in BI. In these live sessions\, we explore practical topics across Data\, AI\, and Automation\, always focused on real business application. If you are a curious professional who wants to better understand how data can improve your work\, your decisions\, and your career\, these sessions are for you. Most dashboards fail because the pipeline behind them is broken. In this session\, you will learn how data should flow from source to decision\, covering source systems\, transformation\, modelling\, and visualisation. You will see what makes a pipeline reliable and scalable\, even in small companies. Each session is practical\, focused\, and designed to deliver real clarity in just one hour. Join us live and take the next step in strengthening your skills in Data\, AI\, and Automation with Excel in BI.
LOCATION:Online\, Online
URL:https://events.teams.microsoft.com/event/1e737e71-6aaf-43cb-a62d-5923d17fa9ef@d4003d39-e709-4fc5-90bf-d1fc9e75702e/registration
END:VEVENT
END:VCALENDAR