BEGIN:VCALENDAR
VERSION:2.0
PRODID:-//NZ Tech Events//techevents.co.nz//EN
CALSCALE:GREGORIAN
METHOD:PUBLISH
BEGIN:VTIMEZONE
TZID:Pacific/Auckland
END:VTIMEZONE
BEGIN:VEVENT
UID:event-69@techevents.co.nz
DTSTAMP:20260423T152641Z
DTSTART;TZID=Pacific/Auckland:20260504T173000
DTEND;TZID=Pacific/Auckland:20260504T200000
SUMMARY:May AI Meetup - Governance and Literacy Implementation
DESCRIPTION:Explore AI Governance and AI Literacy Frameworks at May's First Monday Meetup. Todd Bowman explores AI governance implementation while Dr Elsamari Botha examines multi-dimensional AI literacy frameworks. Drinks\, demos\, and practical takeaways included.\nMeet up with your local AI community on the First Monday of May at EPIC Innovation:\n5:30–6:00 pm — Drinks & Networking<br>6:00–6:45 pm — Todd Bowman - AI Governance Implementation<br>6:45–7:30 pm — Dr Elsamari Botha - AI Literacy & Operating Models<br>7:30–8:00 pm — Drinks & Open Q&A\nThis month's First Monday Meetup dives into practical implementation frameworks for AI readiness.\nTodd Bowman - Best Practices for AI Governance Implementation<br>As artificial intelligence becomes embedded in business operations worldwide\, organisations face a critical inflection point: the shift from experimental AI adoption to sustainable\, responsible integration.\nIn this session\, Todd will:<br>• Share proven governance frameworks that balance innovati...
LOCATION:EPIC Innovation\, 100 Manchester St\, Christchurch\, Canterbury
URL:https://www.meetup.com/christchurch-ai/events/313217491/
END:VEVENT
END:VCALENDAR