BEGIN:VCALENDAR
VERSION:2.0
PRODID:-//NZ Tech Events//techevents.co.nz//EN
CALSCALE:GREGORIAN
METHOD:PUBLISH
BEGIN:VTIMEZONE
TZID:Pacific/Auckland
END:VTIMEZONE
BEGIN:VEVENT
UID:event-68@techevents.co.nz
DTSTAMP:20260423T183134Z
DTSTART;TZID=Pacific/Auckland:20260406T173000
DTEND;TZID=Pacific/Auckland:20260406T200000
SUMMARY:April AI Meetup - Vibe Coding & Web App Development with AI
DESCRIPTION:Explore how SOPs can be turned into Web Apps with Vibe Coding on Claude in April's First Monday Meetup. Greg Dickson will be showing how non-developers can transform Standard Operating Procedures into fully functional web applications\, while Caelan Huntress will be sharing how to build software by describing what you want instead of writing code. Drinks\, demos\, and practical takeaways included.\nMeet up with your local AI community on the First Monday of April at EPIC Innovation:\n5:30–6:00 pm — Drinks & Networking<br>6:00–6:45 pm — Greg Dickson - Web Apps for Non-Devs<br>6:45–7:30 pm — Caelan Huntress - Vibe Coding with Claude<br>7:30–8:00 pm — Drinks & Open Q&A\nFrom SOP to Web App (No Developers Required) — Greg Dickson<br>Learn how non-developers can transform Standard Operating Procedures into fully functional internal web applications\, no coding experience needed.\nKey Points:<br>• Turn any documented process into an interactive tool your whole team can use<br>• Build apps with us...
LOCATION:EPIC Innovation\, 100 Manchester St\, Christchurch\, Canterbury
URL:https://www.meetup.com/christchurch-ai/events/313137130/
END:VEVENT
END:VCALENDAR