BEGIN:VCALENDAR
VERSION:2.0
PRODID:-//NZ Tech Events//techevents.co.nz//EN
CALSCALE:GREGORIAN
METHOD:PUBLISH
BEGIN:VTIMEZONE
TZID:Pacific/Auckland
END:VTIMEZONE
BEGIN:VEVENT
UID:event-67@techevents.co.nz
DTSTAMP:20260423T183516Z
DTSTART;TZID=Pacific/Auckland:20260302T173000
DTEND;TZID=Pacific/Auckland:20260302T200000
SUMMARY:Christchurch AI Meetup - Multimedia Video & Image Generation
DESCRIPTION:Meetup with your local AI community on the First Monday of March at EPIC Innovation:\n5:30–6:00 pm — Drinks & Networking<br>6:00–6:45 pm — Ai Image Generation — Caelan Huntress<br>6:45–7:30 pm — Ai Video Generation — Arthur Machado<br>7:30–8:00 pm — Drinks & Open Q&A\n# AI Image Generation — Caelan Huntress<br>Making images in the age of Ai only requires imagination. Visual art is no longer limited by skill or craft. Anyone with an idea can make an image in any style with Ai. Now you can generate any image you can describe. The tools have become so simple\, we are all artists now. Your willingness to refine and revise\, to use your creative taste\, matters more than your skill with a brush or a tool.\nAfter this session\, you will gain practical insights into how you can:\n- Create multiple image concepts with parallel prompting<br>- Use the 5-step Creative Process to manage a volume of ideas<br>- Develop a reusable prompt for your signature artistic style\n# Ai Video Generation — Arthur Mac...
LOCATION:EPIC Innovation\, 100 Manchester St\, Christchurch\, Canterbury
URL:https://www.meetup.com/christchurch-ai/events/312439112/
END:VEVENT
END:VCALENDAR