BEGIN:VCALENDAR
VERSION:2.0
PRODID:-//NZ Tech Events//techevents.co.nz//EN
CALSCALE:GREGORIAN
METHOD:PUBLISH
BEGIN:VTIMEZONE
TZID:Pacific/Auckland
END:VTIMEZONE
BEGIN:VEVENT
UID:event-65@techevents.co.nz
DTSTAMP:20260423T153808Z
DTSTART;TZID=Pacific/Auckland:20260605T093000
DTEND;TZID=Pacific/Auckland:20260605T153000
SUMMARY:Merge Unconference
DESCRIPTION:Product people are writing code. Engineers are making product decisions.\nSomething fundamental is shifting. AI is collapsing the distance between "what should we build" and "how do we build it."\nMaybe you're a PM who prototyped your own feature with Claude last week. Maybe you're an engineer who realized you're making product calls every day now. Maybe you're somewhere in between and the job titles don't quite fit anymore. At Merge\, we want to explore this convergence\, and what this means for our respective roles.\nThis is an unconference. No predetermined agenda. No lectures from a stage. You bring the topics that matter to you right now.\nThat means Merge is guaranteed to be relevant to you on the day you attend.
LOCATION:Epic Innovation\, 100 Manchester Street\, Christchurch\, Canterbury
URL:https://events.humanitix.com/merge
END:VEVENT
END:VCALENDAR