BEGIN:VCALENDAR
VERSION:2.0
PRODID:-//NZ Tech Events//techevents.co.nz//EN
CALSCALE:GREGORIAN
METHOD:PUBLISH
BEGIN:VTIMEZONE
TZID:Pacific/Auckland
END:VTIMEZONE
BEGIN:VEVENT
UID:event-55@techevents.co.nz
DTSTAMP:20260423T153550Z
DTSTART;TZID=Pacific/Auckland:20260522T180000
DTEND;TZID=Pacific/Auckland:20260522T235500
SUMMARY:2026 NZ Hi-Tech Awards Gala Dinner
DESCRIPTION:Join us as we celebrate the people and organisations shaping Aotearoa’s tech future. The Gala Dinner brings the sector together for an unforgettable night honouring the 2026 finalists\, winners\, and Flying Kiwis.
LOCATION:Spark Arena\, Auckland\, Auckland CBD\, Auckland
URL:https://www.hitech.org.nz/events/gala-dinner/
END:VEVENT
END:VCALENDAR