BEGIN:VCALENDAR
VERSION:2.0
PRODID:-//NZ Tech Events//techevents.co.nz//EN
CALSCALE:GREGORIAN
METHOD:PUBLISH
BEGIN:VTIMEZONE
TZID:Pacific/Auckland
END:VTIMEZONE
BEGIN:VEVENT
UID:event-187@techevents.co.nz
DTSTAMP:20260423T153214Z
DTSTART;TZID=Pacific/Auckland:20260511T170000
DTEND;TZID=Pacific/Auckland:20260511T193000
SUMMARY:Influencing Change: Accessibility Success Stories
DESCRIPTION:Join us for an evening of learning and connection as we explore real-world accessibility wins. We'll hear from two speakers who've made accessibility happen within their organizations\, followed by a panel discussion where you can ask questions and dig into what worked\, what didn't\, and how to drive change in your own context.\n\nOur Speakers\nMark Lynskey is a front-end developer at Bank of New Zealand. Over six years\, he's worked across the bank's products and helped build BNZ's enterprise design system with accessibility at its core. He now applies that foundation to crafting inclusive experiences for customers and staff.\nMichele de Bes is the Experience Design Manager at Open Polytechnic. More details to come.\nSchedule\n5:00pm — Arrive\, grab snacks\, meet people\n5:30pm — Welcome and livestream begins\n5:35pm — First talk\n5:55pm — Second talk\n6:15pm — Panel Q&A\n6:45pm — Networking until 7:30pm\nOther details\nThe event will be held at two/fiftyseven on Willis Street. It is located right n...
LOCATION:two/fiftyseven\nLevel 2/57 Willis Street\, Te Aro\, Wellington 6011\, New Zealand\, Wellington CBD\, Wellington
URL:https://events.humanitix.com/accessibility-success-stories
END:VEVENT
END:VCALENDAR