BEGIN:VCALENDAR
VERSION:2.0
PRODID:-//NZ Tech Events//techevents.co.nz//EN
CALSCALE:GREGORIAN
METHOD:PUBLISH
BEGIN:VTIMEZONE
TZID:Pacific/Auckland
END:VTIMEZONE
BEGIN:VEVENT
UID:event-143@techevents.co.nz
DTSTAMP:20260421T085553Z
DTSTART;TZID=Pacific/Auckland:20260522T083000
DTEND;TZID=Pacific/Auckland:20260522T170000
SUMMARY:Marketers Day Auckland
DESCRIPTION:A one-day\, festival-style experience designed to be fun and educational for marketers at every stage of their career — from students and fresh graduates to fractional CMOs. The day features four panel discussions with speakers sharing practical tips\, what works and what doesn't\, and ideas you can take straight into your own work.\n\nSpeakers include James Hurman (Previously Unavailable)\, Jess Bovey (NZ Police)\, Cynatra Major (BLUNT Umbrellas)\, Carsten Grueber (ex-Google/Meta/TikTok)\, and more. Held at The Garden\, 44 George Street\, Mt Eden\, Auckland. Organised by The Marketing Club AU/NZ.
LOCATION:The Garden\, 44 George Street\, Mt. Eden\, Auckland CBD\, Auckland
URL:https://tmc.zohobackstage.com.au/MarketersDayAuckland#/
END:VEVENT
END:VCALENDAR