BEGIN:VCALENDAR
VERSION:2.0
PRODID:-//NZ Tech Events//techevents.co.nz//EN
CALSCALE:GREGORIAN
METHOD:PUBLISH
BEGIN:VTIMEZONE
TZID:Pacific/Auckland
END:VTIMEZONE
BEGIN:VEVENT
UID:event-141@techevents.co.nz
DTSTAMP:20260421T085333Z
DTSTART;TZID=Pacific/Auckland:20260515T090000
DTEND;TZID=Pacific/Auckland:20260515T103000
SUMMARY:AI Forum Webinar Series: Governance\, Risk & Compliance
DESCRIPTION:Part of a seven-part collaborative webinar series hosted by AI Forum NZ in partnership with ACE New Zealand and presented by academyEX. As AI moves from pilots to day-to-day delivery in architecture\, engineering\, and construction\, the risk profile changes significantly.\n\nThis session translates legal\, ethical\, and contractual obligations into practical guardrails you can implement now\, covering IP ownership and AI-generated content\, contract clauses for AI use in projects\, quality assurance and liability considerations\, and developing organisation-wide AI policies. Designed for executives\, legal counsel\, risk and compliance teams\, and practice leads. Recording and slides shared with all registrants.
LOCATION:Online\, Online\, Online
URL:https://events.humanitix.com/ai-forum-webinar-series-governance-risk-and-compliance-with-frith-paula-and-matt
END:VEVENT
END:VCALENDAR