BEGIN:VCALENDAR
VERSION:2.0
PRODID:-//NZ Tech Events//techevents.co.nz//EN
CALSCALE:GREGORIAN
METHOD:PUBLISH
BEGIN:VTIMEZONE
TZID:Pacific/Auckland
END:VTIMEZONE
BEGIN:VEVENT
UID:event-137@techevents.co.nz
DTSTAMP:20260421T085311Z
DTSTART;TZID=Pacific/Auckland:20260505T120000
DTEND;TZID=Pacific/Auckland:20260505T133000
SUMMARY:Soda Power Lunch with AJ Tills
DESCRIPTION:Join Soda for a lunchtime session with AJ Tills\, a global marketing leader with 15 years' experience at high-growth technology companies around the world. AJ was Uber's first hire in New Zealand before becoming Head of Marketing for Australia and NZ\, followed by global roles at major tech and education companies. He recently took up the role of Chief Customer Officer and US President for Exaba\, a tech startup that has raised $8 million in seed funding.\n\nHear AJ's story of helping grow global tech companies from the ground up\, followed by a Q&A session. Lunch and networking from 12:00 PM\, Q&A from 12:45 PM at Gallagher Hub\, Wintec\, Hamilton.
LOCATION:Event Room 1\, Gallagher Hub\, Wintec City Campus\, Hamilton Central\, Hamilton\, Waikato
URL:https://events.humanitix.com/soda-power-lunch-with-aj-tills
END:VEVENT
END:VCALENDAR