BEGIN:VCALENDAR
VERSION:2.0
PRODID:-//NZ Tech Events//techevents.co.nz//EN
CALSCALE:GREGORIAN
METHOD:PUBLISH
BEGIN:VTIMEZONE
TZID:Pacific/Auckland
END:VTIMEZONE
BEGIN:VEVENT
UID:event-133@techevents.co.nz
DTSTAMP:20260421T090805Z
DTSTART;TZID=Pacific/Auckland:20260430T170000
DTEND;TZID=Pacific/Auckland:20260430T193000
SUMMARY:Network on Your Terms with Powrsuit &  Wāhine Fuelled Tech
DESCRIPTION:A networking event co-hosted by Powrsuit and Wāhine Fuelled Tech\, bringing together their shared focus on practical\, inclusive networking for women in tech and business. The evening features drinks\, food\, and opportunities to build meaningful\, authentic connections in a relaxed social setting.\n\nJoin at Creative HQ\, Level 1\, 7 Dixon Street\, Wellington\, for an evening designed to help you connect on your own terms.
LOCATION:Creative HQ\, Level 1\, 7 Dixon Street\, Wellington\, Wellington CBD\, Wellington
URL:https://events.creativehq.co.nz/wahinefuelledtech#/
END:VEVENT
END:VCALENDAR