BEGIN:VCALENDAR
VERSION:2.0
PRODID:-//NZ Tech Events//techevents.co.nz//EN
CALSCALE:GREGORIAN
METHOD:PUBLISH
BEGIN:VTIMEZONE
TZID:Pacific/Auckland
END:VTIMEZONE
BEGIN:VEVENT
UID:event-120@techevents.co.nz
DTSTAMP:20260421T090403Z
DTSTART;TZID=Pacific/Auckland:20260418T120000
DTEND;TZID=Pacific/Auckland:20260418T140000
SUMMARY:EdTechNZ Community Connect Event
DESCRIPTION:Connect in-person — and on a family farm — with the New Zealand EdTech community for the first time in Hamilton! Hosted by EdTechNZ board member Adam Walmsley and Executive Director Dean Watson\, this is a free\, informal event open to both EdTechNZ members and non-members.\n\nA unique opportunity to network with others passionate about education technology in a relaxed rural setting near Hamilton CBD. The address will be provided 48 hours before the event. Register so the organisers can plan accordingly.
LOCATION:Temple View (7min drive from Hamilton CBD)\, Hamilton\, Waikato
URL:https://edtechnz.org.nz/event/edtechnz-community-connect-event-hamilton-18-april/
END:VEVENT
END:VCALENDAR